BEGIN:VCALENDAR
VERSION:2.0
PRODID:-//National Volunteer Fire Council - ECPv6.15.20//NONSGML v1.0//EN
CALSCALE:GREGORIAN
METHOD:PUBLISH
X-WR-CALNAME:National Volunteer Fire Council
X-ORIGINAL-URL:https://www.nvfc.org
X-WR-CALDESC:Events for National Volunteer Fire Council
REFRESH-INTERVAL;VALUE=DURATION:PT1H
X-Robots-Tag:noindex
X-PUBLISHED-TTL:PT1H
BEGIN:VTIMEZONE
TZID:America/New_York
BEGIN:DAYLIGHT
TZOFFSETFROM:-0500
TZOFFSETTO:-0400
TZNAME:EDT
DTSTART:20250309T070000
END:DAYLIGHT
BEGIN:STANDARD
TZOFFSETFROM:-0400
TZOFFSETTO:-0500
TZNAME:EST
DTSTART:20251102T060000
END:STANDARD
BEGIN:DAYLIGHT
TZOFFSETFROM:-0500
TZOFFSETTO:-0400
TZNAME:EDT
DTSTART:20260308T070000
END:DAYLIGHT
BEGIN:STANDARD
TZOFFSETFROM:-0400
TZOFFSETTO:-0500
TZNAME:EST
DTSTART:20261101T060000
END:STANDARD
BEGIN:DAYLIGHT
TZOFFSETFROM:-0500
TZOFFSETTO:-0400
TZNAME:EDT
DTSTART:20270314T070000
END:DAYLIGHT
BEGIN:STANDARD
TZOFFSETFROM:-0400
TZOFFSETTO:-0500
TZNAME:EST
DTSTART:20271107T060000
END:STANDARD
END:VTIMEZONE
BEGIN:VTIMEZONE
TZID:America/Phoenix
BEGIN:STANDARD
TZOFFSETFROM:-0700
TZOFFSETTO:-0700
TZNAME:MST
DTSTART:20250101T000000
END:STANDARD
END:VTIMEZONE
BEGIN:VEVENT
DTSTART;TZID=America/New_York:20260602T140000
DTEND;TZID=America/New_York:20260602T150000
DTSTAMP:20260424T200155
CREATED:20260413T220241Z
LAST-MODIFIED:20260414T201741Z
UID:23396-1780408800-1780412400@www.nvfc.org
SUMMARY:Roundtable Talk - Safety Stand Down 2026: Fit to Serve\, Fit for Life
DESCRIPTION:Are you fit for the fight? Safety Stand Down is coming up on June 14-20\, a time when firefighters and EMS providers focus on critical health and safety issues so they can perform at their best\, reduce injuries\, and prevent line-of-duty deaths. This year’s theme is Firefighter FITNESS: Fit to Serve\, Fit for Life. Join the NVFC and a panel of experts for this Roundtable Talk to help you get ready. Learn more about this year’s theme and the FITNESS daily topics\, why fitness is an important part of responder readiness\, and how you and your department can take part in Safety Stand Down. You’ll also learn about resources available to help you and your crew become Fit to Serve\, Fit for Life. \nPresenters: Quentin Cash\, Shelby Hall\, Dan Kerrigan\, Eric Valliere\, and Darin Wallentine (Moderator)
URL:https://www.nvfc.org/event/roundtable-talk-safety-stand-down-2026-fit-to-serve-fit-for-life/
LOCATION:MT
ATTACH;FMTTYPE=image/png:https://www.nvfc.org/wp-content/uploads/2026/04/6-2-26-Roundtable-Talk-Safety-Stand-Down-2026-Fit-to-Serve-Fit-for-Life-470-x-394-px-1.png
END:VEVENT
BEGIN:VEVENT
DTSTART;TZID=America/New_York:20260607T090000
DTEND;TZID=America/New_York:20260607T120000
DTSTAMP:20260424T200155
CREATED:20260424T210038Z
LAST-MODIFIED:20260424T210038Z
UID:23494-1780822800-1780833600@www.nvfc.org
SUMMARY:In-Person - Building a Healthy and High-Performing Fire Department
DESCRIPTION:This course from the National Volunteer Fire Council and the American Psychological Association’s Center for Organizational Excellence is designed to empower fire department leadership to promote and support healthy\, high-performing fire/EMS departments. Based on the framework from the Psychologically Healthy Fire Departments initiative\, this course focuses on six key practices – member involvement\, health and safety\, member growth and development\, work-life-volunteer balance\, member recognition\, and effective communication – to facilitate member well-being and department functioning. \nInstructor: Dave Lewis
URL:https://www.nvfc.org/event/in-person-building-a-healthy-and-high-performing-fire-department-9/
LOCATION:Maugansville Goodwill Volunteer Fire Station #13\, 13730 Maugansville Rd\, Maugansville\, MD\, 21767\, United States
END:VEVENT
BEGIN:VEVENT
DTSTART;TZID=America/New_York:20260610T080000
DTEND;TZID=America/New_York:20260610T160000
DTSTAMP:20260424T200155
CREATED:20260306T231723Z
LAST-MODIFIED:20260306T231723Z
UID:23227-1781078400-1781107200@www.nvfc.org
SUMMARY:In-Person - EV/AFV Incident Management: Safety and Response Techniques
DESCRIPTION:As the number of electric vehicles on the roadways increases\, it is important for first responders to understand how a response involving these types of vehicles is different than those with an internal combustion engine. This awareness and fundamentals course will introduce first responders to hybrid and electric vehicles\, share data and resources\, and equip first responders with the knowledge and tools to respond more safely when a hybrid or electric vehicle is involved in an incident. This training will require space outside for a hands-on component with an electric vehicle. \nInstructor: Ralph McNemar
URL:https://www.nvfc.org/event/in-person-ev-afv-incident-management-safety-and-response-techniques-26/
LOCATION:Ashland City Fire Department – Station 1\, 402 N. Main Street\, Ashland City\, TN\, 37015\, United States
END:VEVENT
BEGIN:VEVENT
DTSTART;TZID=America/New_York:20260610T180000
DTEND;TZID=America/New_York:20260610T210000
DTSTAMP:20260424T200155
CREATED:20260424T205452Z
LAST-MODIFIED:20260424T205452Z
UID:23493-1781114400-1781125200@www.nvfc.org
SUMMARY:In-Person - Teaching Cargo Tank Awareness
DESCRIPTION:This course focuses on cargo tank regulations and standards\, including NFPA 470 and 49 CFR regulations as they relate to cargo tanks\, especially the MC-306/DOT-306. Attendees will learn how to teach others about the various types of bulk cargo tanks used in the transport and handling of hazardous materials. They will walk away with an understanding of the general characteristics\, lids\, and closures on MC306/DOT-406 cargo tanks. Attendees will also learn about the most common incidents and risks with these cargo tanks so that they can plan appropriate training. \nInstructor: Corey McCartney
URL:https://www.nvfc.org/event/in-person-teaching-cargo-tank-awareness/
LOCATION:Washington Hook & Ladder Co. #1\, 272 County Avenue\, Secaucus\, NJ\, 07094\, United States
END:VEVENT
BEGIN:VEVENT
DTSTART;TZID=America/Phoenix:20260612T090000
DTEND;TZID=America/Phoenix:20260612T120000
DTSTAMP:20260424T200155
CREATED:20260424T210612Z
LAST-MODIFIED:20260424T210612Z
UID:23497-1781254800-1781265600@www.nvfc.org
SUMMARY:In-Person - Building a Healthy and High-Performing Fire Department
DESCRIPTION:This course from the National Volunteer Fire Council and the American Psychological Association’s Center for Organizational Excellence is designed to empower fire department leadership to promote and support healthy\, high-performing fire/EMS departments. Based on the framework from the Psychologically Healthy Fire Departments initiative\, this course focuses on six key practices – member involvement\, health and safety\, member growth and development\, work-life-volunteer balance\, member recognition\, and effective communication – to facilitate member well-being and department functioning. \nInstructor: Paul Bearce \n 
URL:https://www.nvfc.org/event/in-person-building-a-healthy-and-high-performing-fire-department-10/
LOCATION:Stevensville High School\, 300 Park Ave\, Stevensville\, MT\, 59870\, United States
END:VEVENT
BEGIN:VEVENT
DTSTART;TZID=America/New_York:20260616T180000
DTEND;TZID=America/New_York:20260616T220000
DTSTAMP:20260424T200155
CREATED:20260424T183407Z
LAST-MODIFIED:20260424T183427Z
UID:23474-1781632800-1781647200@www.nvfc.org
SUMMARY:In-Person - Incident Safety Officer Training
DESCRIPTION:The NVFC’s Incident Safety Officer (ISO) training will give students an overview of the role of an ISO and cover communications and safety\, as well as the practical application of this information. Please note\, this is not an ISO certification program. \nInstructor: Wade Buckner
URL:https://www.nvfc.org/event/in-person-incident-safety-officer-training/
LOCATION:Tri-County Community College\, Crisp Building\, Room 100\, 21 Campus Circle\, Murphy\, NC\, 28909\, United States
END:VEVENT
BEGIN:VEVENT
DTSTART;TZID=America/Phoenix:20260620T080000
DTEND;TZID=America/Phoenix:20260620T120000
DTSTAMP:20260424T200155
CREATED:20260306T232056Z
LAST-MODIFIED:20260416T185236Z
UID:23229-1781942400-1781956800@www.nvfc.org
SUMMARY:In-Person – EV/AFV Incident Management: Safety and Response Techniques
DESCRIPTION:As the number of electric vehicles on the roadways increases\, it is important for first responders to understand how a response involving these types of vehicles is different than those with an internal combustion engine. This awareness and fundamentals course will introduce first responders to hybrid and electric vehicles\, share data and resources\, and equip first responders with the knowledge and tools to respond more safely when a hybrid or electric vehicle is involved in an incident. This training will require space outside for a hands-on component with an electric vehicle. \nInstructor: Rob Ingram
URL:https://www.nvfc.org/event/in-person-ev-afv-incident-management-safety-and-response-techniques-27/
LOCATION:Shepherd VFD Station 1\, 5453 Carey Ave\, Shepherd\, MT\, 59079\, United States
END:VEVENT
BEGIN:VEVENT
DTSTART;VALUE=DATE:20260626
DTEND;VALUE=DATE:20260628
DTSTAMP:20260424T200155
CREATED:20250916T184605Z
LAST-MODIFIED:20250916T184605Z
UID:22415-1782432000-1782604799@www.nvfc.org
SUMMARY:NVFC Training Summit
DESCRIPTION:The NVFC’s annual conference\, the NVFC Training Summit\, focuses on volunteer responder health\, safety\, recruitment\, retention\, and leadership. Participate in valuable classroom training and share ideas and best practices with emergency responders from across the U.S.
URL:https://www.nvfc.org/event/nvfc-training-summit-10/
LOCATION:Renaissance Arlington Capital View\, 2800 South Potomac Ave.\, Arlington\, VA\, 22202\, United States
END:VEVENT
END:VCALENDAR