BEGIN:VCALENDAR
VERSION:2.0
PRODID:-//National Volunteer Fire Council - ECPv6.15.20//NONSGML v1.0//EN
CALSCALE:GREGORIAN
METHOD:PUBLISH
X-ORIGINAL-URL:https://www.nvfc.org
X-WR-CALDESC:Events for National Volunteer Fire Council
REFRESH-INTERVAL;VALUE=DURATION:PT1H
X-Robots-Tag:noindex
X-PUBLISHED-TTL:PT1H
BEGIN:VTIMEZONE
TZID:America/New_York
BEGIN:DAYLIGHT
TZOFFSETFROM:-0500
TZOFFSETTO:-0400
TZNAME:EDT
DTSTART:20250309T070000
END:DAYLIGHT
BEGIN:STANDARD
TZOFFSETFROM:-0400
TZOFFSETTO:-0500
TZNAME:EST
DTSTART:20251102T060000
END:STANDARD
BEGIN:DAYLIGHT
TZOFFSETFROM:-0500
TZOFFSETTO:-0400
TZNAME:EDT
DTSTART:20260308T070000
END:DAYLIGHT
BEGIN:STANDARD
TZOFFSETFROM:-0400
TZOFFSETTO:-0500
TZNAME:EST
DTSTART:20261101T060000
END:STANDARD
BEGIN:DAYLIGHT
TZOFFSETFROM:-0500
TZOFFSETTO:-0400
TZNAME:EDT
DTSTART:20270314T070000
END:DAYLIGHT
BEGIN:STANDARD
TZOFFSETFROM:-0400
TZOFFSETTO:-0500
TZNAME:EST
DTSTART:20271107T060000
END:STANDARD
END:VTIMEZONE
BEGIN:VEVENT
DTSTART;TZID=America/New_York:20260916T180000
DTEND;TZID=America/New_York:20260916T210000
DTSTAMP:20260425T075730
CREATED:20260424T204622Z
LAST-MODIFIED:20260424T204622Z
UID:23489-1789581600-1789592400@www.nvfc.org
SUMMARY:In-Person - Building a Healthy and High-Performing Fire Department
DESCRIPTION:This course from the National Volunteer Fire Council and the American Psychological Association’s Center for Organizational Excellence is designed to empower fire department leadership to promote and support healthy\, high-performing fire/EMS departments. Based on the framework from the Psychologically Healthy Fire Departments initiative\, this course focuses on six key practices – member involvement\, health and safety\, member growth and development\, work-life-volunteer balance\, member recognition\, and effective communication – to facilitate member well-being and department functioning. \nInstructor: Dave Lewis
URL:https://www.nvfc.org/event/in-person-building-a-healthy-and-high-performing-fire-department-7/
LOCATION:Washington Hook & Ladder Co. #1\, 272 County Avenue\, Secaucus\, NJ\, 07094\, United States
END:VEVENT
END:VCALENDAR