BEGIN:VCALENDAR
VERSION:2.0
PRODID:-//National Volunteer Fire Council - ECPv6.15.20//NONSGML v1.0//EN
CALSCALE:GREGORIAN
METHOD:PUBLISH
X-ORIGINAL-URL:https://www.nvfc.org
X-WR-CALDESC:Events for National Volunteer Fire Council
REFRESH-INTERVAL;VALUE=DURATION:PT1H
X-Robots-Tag:noindex
X-PUBLISHED-TTL:PT1H
BEGIN:VTIMEZONE
TZID:America/Chicago
BEGIN:DAYLIGHT
TZOFFSETFROM:-0600
TZOFFSETTO:-0500
TZNAME:CDT
DTSTART:20250309T080000
END:DAYLIGHT
BEGIN:STANDARD
TZOFFSETFROM:-0500
TZOFFSETTO:-0600
TZNAME:CST
DTSTART:20251102T070000
END:STANDARD
BEGIN:DAYLIGHT
TZOFFSETFROM:-0600
TZOFFSETTO:-0500
TZNAME:CDT
DTSTART:20260308T080000
END:DAYLIGHT
BEGIN:STANDARD
TZOFFSETFROM:-0500
TZOFFSETTO:-0600
TZNAME:CST
DTSTART:20261101T070000
END:STANDARD
BEGIN:DAYLIGHT
TZOFFSETFROM:-0600
TZOFFSETTO:-0500
TZNAME:CDT
DTSTART:20270314T080000
END:DAYLIGHT
BEGIN:STANDARD
TZOFFSETFROM:-0500
TZOFFSETTO:-0600
TZNAME:CST
DTSTART:20271107T070000
END:STANDARD
END:VTIMEZONE
BEGIN:VTIMEZONE
TZID:America/Los_Angeles
BEGIN:DAYLIGHT
TZOFFSETFROM:-0800
TZOFFSETTO:-0700
TZNAME:PDT
DTSTART:20250309T100000
END:DAYLIGHT
BEGIN:STANDARD
TZOFFSETFROM:-0700
TZOFFSETTO:-0800
TZNAME:PST
DTSTART:20251102T090000
END:STANDARD
BEGIN:DAYLIGHT
TZOFFSETFROM:-0800
TZOFFSETTO:-0700
TZNAME:PDT
DTSTART:20260308T100000
END:DAYLIGHT
BEGIN:STANDARD
TZOFFSETFROM:-0700
TZOFFSETTO:-0800
TZNAME:PST
DTSTART:20261101T090000
END:STANDARD
BEGIN:DAYLIGHT
TZOFFSETFROM:-0800
TZOFFSETTO:-0700
TZNAME:PDT
DTSTART:20270314T100000
END:DAYLIGHT
BEGIN:STANDARD
TZOFFSETFROM:-0700
TZOFFSETTO:-0800
TZNAME:PST
DTSTART:20271107T090000
END:STANDARD
END:VTIMEZONE
BEGIN:VEVENT
DTSTART;TZID=America/Chicago:20260509T080000
DTEND;TZID=America/Chicago:20260509T160000
DTSTAMP:20260424T200227
CREATED:20260309T141914Z
LAST-MODIFIED:20260309T141931Z
UID:23238-1778313600-1778342400@www.nvfc.org
SUMMARY:In-Person - EV/AFV Incident Management: Safety and Response Techniques
DESCRIPTION:As the number of electric vehicles on the roadways increases\, it is important for first responders to understand how a response involving these types of vehicles is different than those with an internal combustion engine. This awareness and fundamentals course will introduce first responders to hybrid and electric vehicles\, share data and resources\, and equip first responders with the knowledge and tools to respond more safely when a hybrid or electric vehicle is involved in an incident. This training will require space outside for a hands-on component with an electric vehicle. \nInstructor: Rob Ingram
URL:https://www.nvfc.org/event/in-person-ev-afv-incident-management-safety-and-response-techniques-28/
LOCATION:New Fairview Fire Rescue\, 1015 FM 407\, Rhome\, TX\, 76078\, United States
END:VEVENT
BEGIN:VEVENT
DTSTART;TZID=America/Los_Angeles:20260509T090000
DTEND;TZID=America/Los_Angeles:20260509T170000
DTSTAMP:20260424T200227
CREATED:20260424T180734Z
LAST-MODIFIED:20260424T180759Z
UID:23469-1778317200-1778346000@www.nvfc.org
SUMMARY:In-Person - Wildland Fire Assessment Program
DESCRIPTION:The NVFC\, in partnership with the U.S. Forest Service\, offers an in-person training course to teach fire service volunteers how to properly conduct safety assessments for homes located in the wildland-urban interface and provide recommendations to residents to protect their property from wildfires. \nInstructors: Mike Johnson & Steve McClintock
URL:https://www.nvfc.org/event/in-person-wildland-fire-assessment-program-4/
LOCATION:Copperopolis Fire Station 1\, 370 Main St\, Copperopolis\, CA\, 95228\, United States
END:VEVENT
END:VCALENDAR