BEGIN:VCALENDAR
VERSION:2.0
PRODID:-//National Volunteer Fire Council - ECPv6.15.20//NONSGML v1.0//EN
CALSCALE:GREGORIAN
METHOD:PUBLISH
X-ORIGINAL-URL:https://www.nvfc.org
X-WR-CALDESC:Events for National Volunteer Fire Council
REFRESH-INTERVAL;VALUE=DURATION:PT1H
X-Robots-Tag:noindex
X-PUBLISHED-TTL:PT1H
BEGIN:VTIMEZONE
TZID:America/New_York
BEGIN:DAYLIGHT
TZOFFSETFROM:-0500
TZOFFSETTO:-0400
TZNAME:EDT
DTSTART:20250309T070000
END:DAYLIGHT
BEGIN:STANDARD
TZOFFSETFROM:-0400
TZOFFSETTO:-0500
TZNAME:EST
DTSTART:20251102T060000
END:STANDARD
BEGIN:DAYLIGHT
TZOFFSETFROM:-0500
TZOFFSETTO:-0400
TZNAME:EDT
DTSTART:20260308T070000
END:DAYLIGHT
BEGIN:STANDARD
TZOFFSETFROM:-0400
TZOFFSETTO:-0500
TZNAME:EST
DTSTART:20261101T060000
END:STANDARD
BEGIN:DAYLIGHT
TZOFFSETFROM:-0500
TZOFFSETTO:-0400
TZNAME:EDT
DTSTART:20270314T070000
END:DAYLIGHT
BEGIN:STANDARD
TZOFFSETFROM:-0400
TZOFFSETTO:-0500
TZNAME:EST
DTSTART:20271107T060000
END:STANDARD
END:VTIMEZONE
BEGIN:VEVENT
DTSTART;TZID=America/New_York:20260503T080000
DTEND;TZID=America/New_York:20260503T160000
DTSTAMP:20260424T082823
CREATED:20260325T141425Z
LAST-MODIFIED:20260325T141425Z
UID:23331-1777795200-1777824000@www.nvfc.org
SUMMARY:In-Person – Teaching Basic Decon
DESCRIPTION:This course focuses on first responder safety by reviewing basic decontamination (decon) techniques. Attendees will learn the differences between the various levels of decontamination as well as alternate means of decontamination and how to set up a one-hour drill/exercise in their jurisdiction. Keeping the focus on safety\, attendees will discuss how to utilize a safety officer when conducting decon drills. \nInstructors: Tom Miller and William Offerman
URL:https://www.nvfc.org/event/in-person-teaching-basic-decon-3/
LOCATION:Wyoming County Fire Training Center\, 3651 Wethersfield Road\, Warsaw\, NY\, 14569\, United States
END:VEVENT
END:VCALENDAR