BEGIN:VCALENDAR
VERSION:2.0
PRODID:-//National Volunteer Fire Council - ECPv6.15.20//NONSGML v1.0//EN
CALSCALE:GREGORIAN
METHOD:PUBLISH
X-ORIGINAL-URL:https://www.nvfc.org
X-WR-CALDESC:Events for National Volunteer Fire Council
REFRESH-INTERVAL;VALUE=DURATION:PT1H
X-Robots-Tag:noindex
X-PUBLISHED-TTL:PT1H
BEGIN:VTIMEZONE
TZID:America/New_York
BEGIN:DAYLIGHT
TZOFFSETFROM:-0500
TZOFFSETTO:-0400
TZNAME:EDT
DTSTART:20250309T070000
END:DAYLIGHT
BEGIN:STANDARD
TZOFFSETFROM:-0400
TZOFFSETTO:-0500
TZNAME:EST
DTSTART:20251102T060000
END:STANDARD
BEGIN:DAYLIGHT
TZOFFSETFROM:-0500
TZOFFSETTO:-0400
TZNAME:EDT
DTSTART:20260308T070000
END:DAYLIGHT
BEGIN:STANDARD
TZOFFSETFROM:-0400
TZOFFSETTO:-0500
TZNAME:EST
DTSTART:20261101T060000
END:STANDARD
BEGIN:DAYLIGHT
TZOFFSETFROM:-0500
TZOFFSETTO:-0400
TZNAME:EDT
DTSTART:20270314T070000
END:DAYLIGHT
BEGIN:STANDARD
TZOFFSETFROM:-0400
TZOFFSETTO:-0500
TZNAME:EST
DTSTART:20271107T060000
END:STANDARD
END:VTIMEZONE
BEGIN:VEVENT
DTSTART;TZID=America/New_York:20260423T140000
DTEND;TZID=America/New_York:20260423T150000
DTSTAMP:20260424T070423
CREATED:20260320T184309Z
LAST-MODIFIED:20260320T190137Z
UID:23287-1776952800-1776956400@www.nvfc.org
SUMMARY:Webinar - Start Strong: Effective Onboarding for Volunteer Firefighters and EMS
DESCRIPTION:Onboarding volunteer firefighters and EMS providers comes with unique challenges\, including limited time\, staffing\, and resources. Without a structured process in place\, departments risk losing new volunteers before they ever have the chance to make an impact. This webinar will cover practical strategies for building an effective onboarding program that welcomes new members\, sets clear expectations\, and connects them to the mission of their department from day one. Whether your department is building an onboarding process from scratch or looking to improve what you already have\, you’ll walk away with actionable tools and ideas you can put to work right away. \nPresenter: Pam Rogers
URL:https://www.nvfc.org/event/webinar-start-strong-effective-onboarding-for-volunteer-firefighters-and-ems/
ATTACH;FMTTYPE=image/png:https://www.nvfc.org/wp-content/uploads/2026/03/4-23-26-Webinar-Start-Strong-Effective-Onboarding-for-Volunteer-Firefighters-and-EMS-470-x-394-px-1.png
END:VEVENT
END:VCALENDAR