BEGIN:VCALENDAR
VERSION:2.0
PRODID:-//National Volunteer Fire Council - ECPv6.15.20//NONSGML v1.0//EN
CALSCALE:GREGORIAN
METHOD:PUBLISH
X-ORIGINAL-URL:https://www.nvfc.org
X-WR-CALDESC:Events for National Volunteer Fire Council
REFRESH-INTERVAL;VALUE=DURATION:PT1H
X-Robots-Tag:noindex
X-PUBLISHED-TTL:PT1H
BEGIN:VTIMEZONE
TZID:America/New_York
BEGIN:DAYLIGHT
TZOFFSETFROM:-0500
TZOFFSETTO:-0400
TZNAME:EDT
DTSTART:20250309T070000
END:DAYLIGHT
BEGIN:STANDARD
TZOFFSETFROM:-0400
TZOFFSETTO:-0500
TZNAME:EST
DTSTART:20251102T060000
END:STANDARD
BEGIN:DAYLIGHT
TZOFFSETFROM:-0500
TZOFFSETTO:-0400
TZNAME:EDT
DTSTART:20260308T070000
END:DAYLIGHT
BEGIN:STANDARD
TZOFFSETFROM:-0400
TZOFFSETTO:-0500
TZNAME:EST
DTSTART:20261101T060000
END:STANDARD
BEGIN:DAYLIGHT
TZOFFSETFROM:-0500
TZOFFSETTO:-0400
TZNAME:EDT
DTSTART:20270314T070000
END:DAYLIGHT
BEGIN:STANDARD
TZOFFSETFROM:-0400
TZOFFSETTO:-0500
TZNAME:EST
DTSTART:20271107T060000
END:STANDARD
END:VTIMEZONE
BEGIN:VEVENT
DTSTART;TZID=America/New_York:20260421T183000
DTEND;TZID=America/New_York:20260421T213000
DTSTAMP:20260424T070358
CREATED:20251114T174206Z
LAST-MODIFIED:20251114T174206Z
UID:22686-1776796200-1776807000@www.nvfc.org
SUMMARY:In-Person - Leadership for the Fire and Emergency Services
DESCRIPTION:Leadership for the Fire and Emergency Services: Quality leadership is essential for the fire and emergency services to accomplish the mission\, improve member satisfaction\, and best serve the community. This course examines leadership styles\, qualities\, ethics\, and best practices to help your department function at a high level and avoid fire and emergency services leadership pitfalls. Retention research will also be discussed to help leaders understand retention concerns and identify solutions. \nInstructor: Tiger Schmittendorf
URL:https://www.nvfc.org/event/in-person-leadership-for-the-fire-and-emergency-services-2/
LOCATION:Wyoming County Fire Training Center\, 3651 Wethersfield Road\, Warsaw\, NY\, 14569\, United States
END:VEVENT
END:VCALENDAR