BEGIN:VCALENDAR
VERSION:2.0
PRODID:-//National Volunteer Fire Council - ECPv6.15.20//NONSGML v1.0//EN
CALSCALE:GREGORIAN
METHOD:PUBLISH
X-ORIGINAL-URL:https://www.nvfc.org
X-WR-CALDESC:Events for National Volunteer Fire Council
REFRESH-INTERVAL;VALUE=DURATION:PT1H
X-Robots-Tag:noindex
X-PUBLISHED-TTL:PT1H
BEGIN:VTIMEZONE
TZID:America/New_York
BEGIN:DAYLIGHT
TZOFFSETFROM:-0500
TZOFFSETTO:-0400
TZNAME:EDT
DTSTART:20250309T070000
END:DAYLIGHT
BEGIN:STANDARD
TZOFFSETFROM:-0400
TZOFFSETTO:-0500
TZNAME:EST
DTSTART:20251102T060000
END:STANDARD
BEGIN:DAYLIGHT
TZOFFSETFROM:-0500
TZOFFSETTO:-0400
TZNAME:EDT
DTSTART:20260308T070000
END:DAYLIGHT
BEGIN:STANDARD
TZOFFSETFROM:-0400
TZOFFSETTO:-0500
TZNAME:EST
DTSTART:20261101T060000
END:STANDARD
BEGIN:DAYLIGHT
TZOFFSETFROM:-0500
TZOFFSETTO:-0400
TZNAME:EDT
DTSTART:20270314T070000
END:DAYLIGHT
BEGIN:STANDARD
TZOFFSETFROM:-0400
TZOFFSETTO:-0500
TZNAME:EST
DTSTART:20271107T060000
END:STANDARD
END:VTIMEZONE
BEGIN:VEVENT
DTSTART;TZID=America/New_York:20260411T080000
DTEND;TZID=America/New_York:20260411T160000
DTSTAMP:20260424T070421
CREATED:20260306T225435Z
LAST-MODIFIED:20260306T225435Z
UID:23215-1775894400-1775923200@www.nvfc.org
SUMMARY:In-Person - Teaching Hazmat Basics
DESCRIPTION:This course covers the foundations of teaching hazmat response and safety. Attendees will learn how to connect their hazmat training to the risks faced by the student audience. They will walk away able to take a limited hazmat resource list and develop at least three practical skills trainings of direct benefit to their students. Finally\, attendees will be able to develop training drills and/or exercises that meet the needs of their jurisdiction in accordance with recognized national standards. \nInstructors: Tom Miller\, William Offerman\, David Bullard\, and Bob MacKay
URL:https://www.nvfc.org/event/in-person-teaching-hazmat-basics-2/
LOCATION:Dover-Foxcroft Fire Department\, 105 E Main St.\, Dover-Foxcroft\, ME\, 04426\, United States
END:VEVENT
BEGIN:VEVENT
DTSTART;TZID=America/New_York:20260411T090000
DTEND;TZID=America/New_York:20260411T170000
DTSTAMP:20260424T070421
CREATED:20260210T172912Z
LAST-MODIFIED:20260210T172912Z
UID:23044-1775898000-1775926800@www.nvfc.org
SUMMARY:In-Person - EV/AFV Incident Management: Safety and Response Techniques
DESCRIPTION:As the number of electric vehicles on the roadways increases\, it is important for first responders to understand how a response involving these types of vehicles is different than those with an internal combustion engine. This awareness and fundamentals course will introduce first responders to hybrid and electric vehicles\, share data and resources\, and equip first responders with the knowledge and tools to respond more safely when a hybrid or electric vehicle is involved in an incident. This training will require space outside for a hands-on component with an electric vehicle. \nInstructor: Rob Ingram
URL:https://www.nvfc.org/event/in-person-ev-afv-incident-management-safety-and-response-techniques-22/
LOCATION:Treadway Volunteer Fire Department\, 189 Hwy 131\, Thorn Hill\, TN\, 37881\, United States
END:VEVENT
END:VCALENDAR