BEGIN:VCALENDAR
VERSION:2.0
PRODID:-//National Volunteer Fire Council - ECPv6.15.20//NONSGML v1.0//EN
CALSCALE:GREGORIAN
METHOD:PUBLISH
X-ORIGINAL-URL:https://www.nvfc.org
X-WR-CALDESC:Events for National Volunteer Fire Council
REFRESH-INTERVAL;VALUE=DURATION:PT1H
X-Robots-Tag:noindex
X-PUBLISHED-TTL:PT1H
BEGIN:VTIMEZONE
TZID:America/New_York
BEGIN:DAYLIGHT
TZOFFSETFROM:-0500
TZOFFSETTO:-0400
TZNAME:EDT
DTSTART:20250309T070000
END:DAYLIGHT
BEGIN:STANDARD
TZOFFSETFROM:-0400
TZOFFSETTO:-0500
TZNAME:EST
DTSTART:20251102T060000
END:STANDARD
BEGIN:DAYLIGHT
TZOFFSETFROM:-0500
TZOFFSETTO:-0400
TZNAME:EDT
DTSTART:20260308T070000
END:DAYLIGHT
BEGIN:STANDARD
TZOFFSETFROM:-0400
TZOFFSETTO:-0500
TZNAME:EST
DTSTART:20261101T060000
END:STANDARD
BEGIN:DAYLIGHT
TZOFFSETFROM:-0500
TZOFFSETTO:-0400
TZNAME:EDT
DTSTART:20270314T070000
END:DAYLIGHT
BEGIN:STANDARD
TZOFFSETFROM:-0400
TZOFFSETTO:-0500
TZNAME:EST
DTSTART:20271107T060000
END:STANDARD
END:VTIMEZONE
BEGIN:VEVENT
DTSTART;TZID=America/New_York:20260401T140000
DTEND;TZID=America/New_York:20260401T150000
DTSTAMP:20260424T070424
CREATED:20260320T182646Z
LAST-MODIFIED:20260320T182646Z
UID:23285-1775052000-1775055600@www.nvfc.org
SUMMARY:Webinar - Save More Lives on Rural Roadways: Strengthening Post-Crash Care
DESCRIPTION:When a serious motor vehicle crash occurs – especially on rural roadways – volunteer fire and EMS departments are the difference between life and death in the critical moments that follow. In this NVFC webinar\, join Gamunu Wijetunge\, director of the National Highway Traffic Safety Administration’s (NHTSA) Office of EMS\, to learn how advances in post-crash care are strengthening response in rural communities across the country. Hear real-world examples and lessons learned from departments implementing life-saving interventions – from evolving extrication practices to prehospital blood transfusion. The session will share how volunteer fire departments can partner with EMS and highway safety leaders to improve post-crash care and access new resources. Volunteer responders will find this discussion informative as they prepare applications for the upcoming Safe Streets and Roads for All (SS4A) funding opportunity. \nPresenter: Gamunu Wijetunge\, Director\, NHTSA’s Office of EMS
URL:https://www.nvfc.org/event/webinar-save-more-lives-on-rural-roadways-strengthening-post-crash-care/
ATTACH;FMTTYPE=image/png:https://www.nvfc.org/wp-content/uploads/2026/03/4-1-26-Save-More-Lives-on-Rural-Roadways-Strengthening-Post-Crash-Care-470-x-394-px.png
END:VEVENT
END:VCALENDAR