BEGIN:VCALENDAR
VERSION:2.0
PRODID:-//National Volunteer Fire Council - ECPv6.15.20//NONSGML v1.0//EN
CALSCALE:GREGORIAN
METHOD:PUBLISH
X-ORIGINAL-URL:https://www.nvfc.org
X-WR-CALDESC:Events for National Volunteer Fire Council
REFRESH-INTERVAL;VALUE=DURATION:PT1H
X-Robots-Tag:noindex
X-PUBLISHED-TTL:PT1H
BEGIN:VTIMEZONE
TZID:America/New_York
BEGIN:DAYLIGHT
TZOFFSETFROM:-0500
TZOFFSETTO:-0400
TZNAME:EDT
DTSTART:20250309T070000
END:DAYLIGHT
BEGIN:STANDARD
TZOFFSETFROM:-0400
TZOFFSETTO:-0500
TZNAME:EST
DTSTART:20251102T060000
END:STANDARD
BEGIN:DAYLIGHT
TZOFFSETFROM:-0500
TZOFFSETTO:-0400
TZNAME:EDT
DTSTART:20260308T070000
END:DAYLIGHT
BEGIN:STANDARD
TZOFFSETFROM:-0400
TZOFFSETTO:-0500
TZNAME:EST
DTSTART:20261101T060000
END:STANDARD
BEGIN:DAYLIGHT
TZOFFSETFROM:-0500
TZOFFSETTO:-0400
TZNAME:EDT
DTSTART:20270314T070000
END:DAYLIGHT
BEGIN:STANDARD
TZOFFSETFROM:-0400
TZOFFSETTO:-0500
TZNAME:EST
DTSTART:20271107T060000
END:STANDARD
END:VTIMEZONE
BEGIN:VEVENT
DTSTART;TZID=America/New_York:20260317T140000
DTEND;TZID=America/New_York:20260317T150000
DTSTAMP:20260424T082813
CREATED:20260123T152327Z
LAST-MODIFIED:20260205T175612Z
UID:22956-1773756000-1773759600@www.nvfc.org
SUMMARY:Webinar - NIOSH Report Review: Improving Volunteer Firefighter Safety in Privately Owned Vehicles
DESCRIPTION:On July 15\, 2025\, a volunteer firefighter died and another was injured as the result of a crash while responding in a privately owned vehicle. The incident was investigated by the National Institute for Occupational Safety and Health (NIOSH) Fire Fighter Fatality Investigation and Prevention Program (FFFIPP) so that the fire service can learn from this incident and prevent future tragedies. In this presentation\, investigator Rick Lago will share the incident details\, contributing factors that led to the fatality and injury\, and recommendations to help fire departments prevent future incidents involving POV response. \nPresenter: Rick Lago
URL:https://www.nvfc.org/event/webinar-niosh-report-review-recommendations-for-improving-volunteer-firefighter-safety-in-privately-owned-vehicles/
ATTACH;FMTTYPE=image/png:https://www.nvfc.org/wp-content/uploads/2026/01/NIOSH-Report-Review-Recommendations-for-Improving-Volunteer-Firefighter-Safety-in-Privately-Owned-Vehicles-March-17-470-x-394-px-1.png
END:VEVENT
END:VCALENDAR