BEGIN:VCALENDAR
VERSION:2.0
PRODID:-//National Volunteer Fire Council - ECPv6.15.20//NONSGML v1.0//EN
CALSCALE:GREGORIAN
METHOD:PUBLISH
X-ORIGINAL-URL:https://www.nvfc.org
X-WR-CALDESC:Events for National Volunteer Fire Council
REFRESH-INTERVAL;VALUE=DURATION:PT1H
X-Robots-Tag:noindex
X-PUBLISHED-TTL:PT1H
BEGIN:VTIMEZONE
TZID:America/New_York
BEGIN:DAYLIGHT
TZOFFSETFROM:-0500
TZOFFSETTO:-0400
TZNAME:EDT
DTSTART:20250309T070000
END:DAYLIGHT
BEGIN:STANDARD
TZOFFSETFROM:-0400
TZOFFSETTO:-0500
TZNAME:EST
DTSTART:20251102T060000
END:STANDARD
BEGIN:DAYLIGHT
TZOFFSETFROM:-0500
TZOFFSETTO:-0400
TZNAME:EDT
DTSTART:20260308T070000
END:DAYLIGHT
BEGIN:STANDARD
TZOFFSETFROM:-0400
TZOFFSETTO:-0500
TZNAME:EST
DTSTART:20261101T060000
END:STANDARD
BEGIN:DAYLIGHT
TZOFFSETFROM:-0500
TZOFFSETTO:-0400
TZNAME:EDT
DTSTART:20270314T070000
END:DAYLIGHT
BEGIN:STANDARD
TZOFFSETFROM:-0400
TZOFFSETTO:-0500
TZNAME:EST
DTSTART:20271107T060000
END:STANDARD
END:VTIMEZONE
BEGIN:VEVENT
DTSTART;TZID=America/New_York:20260311T130000
DTEND;TZID=America/New_York:20260311T140000
DTSTAMP:20260424T082820
CREATED:20260107T213934Z
LAST-MODIFIED:20260107T213934Z
UID:22850-1773234000-1773237600@www.nvfc.org
SUMMARY:NVFC 2026 Membership Meeting
DESCRIPTION:NVFC members are invited to the annual membership meeting\, taking place via Zoom. This meeting is open to all state\, individual\, and corporate members of the NVFC. Attendees will hear reports on the NVFC’s business and financial operations. State member representatives may vote on matters raised at the meeting. Register.
URL:https://www.nvfc.org/event/nvfc-2026-membership-meeting/
END:VEVENT
BEGIN:VEVENT
DTSTART;TZID=America/New_York:20260311T140000
DTEND;TZID=America/New_York:20260311T150000
DTSTAMP:20260424T082820
CREATED:20260213T165544Z
LAST-MODIFIED:20260213T172350Z
UID:23063-1773237600-1773241200@www.nvfc.org
SUMMARY:Webinar - Smarter\, Not Harder: Using AI to Support Volunteer Responder Recruitment & Retention
DESCRIPTION:Artificial intelligence (AI) can be a practical and accessible tool for volunteer fire and EMS departments without being complicated\, expensive\, or replacing the people at the heart of the fire service. This NVFC webinar presented by Daniel Chapek will explore how volunteer departments can use simple\, easy-to-adopt AI tools to support recruitment\, retention\, and member engagement. Designed for all experience levels\, the session focuses on real-world applications rather than technical jargon\, including creating recruitment and outreach materials\, reaching diverse audiences\, organizing and analyzing existing data\, supporting grant writing\, and assisting with training and onboarding efforts. Participants will gain a clear understanding of what AI is – and what it is not – and leave with practical ideas they can apply immediately\, regardless of department size or budget. \nPresenter: Daniel Chapek
URL:https://www.nvfc.org/event/webinar-smarter-not-harder-using-ai-to-support-volunteer-responder-recruitment-retention/
ATTACH;FMTTYPE=image/png:https://www.nvfc.org/wp-content/uploads/2026/02/3-11-26-Smarter-Not-Harder-Using-AI-to-Support-Volunteer-Responder-Recruitment-Retention-470-x-394-px.png
END:VEVENT
END:VCALENDAR