BEGIN:VCALENDAR
VERSION:2.0
PRODID:-//National Volunteer Fire Council - ECPv6.15.20//NONSGML v1.0//EN
CALSCALE:GREGORIAN
METHOD:PUBLISH
X-ORIGINAL-URL:https://www.nvfc.org
X-WR-CALDESC:Events for National Volunteer Fire Council
REFRESH-INTERVAL;VALUE=DURATION:PT1H
X-Robots-Tag:noindex
X-PUBLISHED-TTL:PT1H
BEGIN:VTIMEZONE
TZID:America/New_York
BEGIN:DAYLIGHT
TZOFFSETFROM:-0500
TZOFFSETTO:-0400
TZNAME:EDT
DTSTART:20250309T070000
END:DAYLIGHT
BEGIN:STANDARD
TZOFFSETFROM:-0400
TZOFFSETTO:-0500
TZNAME:EST
DTSTART:20251102T060000
END:STANDARD
BEGIN:DAYLIGHT
TZOFFSETFROM:-0500
TZOFFSETTO:-0400
TZNAME:EDT
DTSTART:20260308T070000
END:DAYLIGHT
BEGIN:STANDARD
TZOFFSETFROM:-0400
TZOFFSETTO:-0500
TZNAME:EST
DTSTART:20261101T060000
END:STANDARD
BEGIN:DAYLIGHT
TZOFFSETFROM:-0500
TZOFFSETTO:-0400
TZNAME:EDT
DTSTART:20270314T070000
END:DAYLIGHT
BEGIN:STANDARD
TZOFFSETFROM:-0400
TZOFFSETTO:-0500
TZNAME:EST
DTSTART:20271107T060000
END:STANDARD
END:VTIMEZONE
BEGIN:VEVENT
DTSTART;TZID=America/New_York:20260429T180000
DTEND;TZID=America/New_York:20260429T210000
DTSTAMP:20260424T100612
CREATED:20260210T181845Z
LAST-MODIFIED:20260210T181845Z
UID:23054-1777485600-1777496400@www.nvfc.org
SUMMARY:In-Person - Instructor Training for Flammable Gases
DESCRIPTION:This course focuses on the specific techniques and knowledge required to teach others about flammable gases hazmat response. After completing the course\, attendees will be able to relate the specific regional applications of the product and key response considerations; describe specific chemical properties of the product to their students; and transfer key strategies and tactics to students for dealing with an incident involving the product. Safety is a focus\, and the course will stress teaching others the key safety considerations for application when dealing with an incident involving the product. \nInstructor: William Offerman
URL:https://www.nvfc.org/event/in-person-instructor-training-for-flammable-gases/
LOCATION:MAAC Foundation\, 4203 Montdale Drive\, Valparaiso\, IN\, 46383\, United States
END:VEVENT
END:VCALENDAR